{"text_format":"1","workbook":"xlsx","n_sheets":3,"sheets":["回覧作成","回覧２０戸用","回覧３０戸用"],"not_rendered":{"charts":0,"images":1,"macros":1,"external_links":0,"defined_names":3,"comments":0,"pivot_tables":0},"unopened":[],"bounds":{"document_bytes":16777216,"sheet_cells":100000,"rows_first":2000,"rows_last":500,"rows_between":2000,"halvings":0,"cell_chars":16384,"cell_head_chars":4096},"cells_cut":0,"cells_raw":0,"read":"whole","date_system":"1900"}

{"sheet":"回覧作成","index":0,"n_rows":19,"n_cols":14,"rows_kept":19,"cut":false,"hidden":false,"merged":[[12,5,13,6],[8,9,10,9],[12,2,13,3],[2,2,3,2],[2,3,3,3],[2,4,3,7],[5,5,6,5],[5,7,6,7],[5,6,6,6],[7,1,8,1],[7,2,8,2],[7,3,8,3],[7,5,8,5],[7,6,8,7]]}
["*コンテンツの有効化をクリックしてから使用ください　（エクセルのセキュリティ　メッセージが出る場合もセキュリティ解除し、コンテンツの有効化)",null,null,null,null,null,null,null,null,null,null,"保護PW:2024"]
[null,null,"　　↓年を入力"]
[" ",null,2026,"年度","回覧票　作成",null,null,null,null,"  ",null,null,"【留意点　】"]
[null,null,null,null,null,null,null,null,"  ",null,null,null,"１．戸数：１～２０までは、入力エリアは２段２０戸を入力できるエリアが現れます"]
["　",null,null,null,null,null,"　　↓班名を入力（ｃｆ. 3-12)"]
[null,null,null,null,null,"班名",null,"班",null,"入力例",null,null,"２．戸数：１～３０までは、入力エリアは３段３０戸を入力できるエリアが現れます"]
[null,null,"①戸数入力",null,null,null,null,null,null,"１－９９"]
[null,"班内の戸数",0,"戸",null,"班長名",null,null,null,"花住坂",null,null,"３．回覧作成シートの班長名の入力内容と入力エリアの名前欄と一致すれば確認チェック欄に”LAST\"と印字されます"]
[null,null,null,null,null,null,null,null,null,"(入力不要\n確認ﾁｪｯｸ欄）",null,null,null,"但し、回覧作成シートの入力エリアには表示はされませんので、印刷で確認ください"]
[null,null,null,null,null,null,"姓のみ入力",null,null,null,"２段目に⇒⇒表示（長期不在等）は可能"]
[null,"　　　　　　"]
[null,null,"②クリック",null,null,"③番地エリア・名前欄入力",null,null,"④印刷",null,"   "]
[null,null,"編集",null,null,"編集セット",null," 下欄編集後",null,null,null,null," "]
[]
[]
[null,null,null,null,null,"一度入力完了すれば、④のみで印刷    修正の場合は、②→③→④"]
[null,null,null,null,null,"全て洗い替えは　①→②→ Reset　→③→④ (Reset　入力エリアが空白になるので使用注意）"]
[]
["番地　・名前編集エリア↓　＊入力エリアのクリアーは戸数に　０　を入力し、入力エリアボタンをクリック"]

{"sheet":"回覧２０戸用","index":1,"n_rows":61,"n_cols":15,"rows_kept":61,"cut":false,"hidden":false,"merged":[]}
["回覧",{"$f":"回覧作成!C3&\"年度\"","v":"2026年度"},"(回覧開始日：　　　　月　　　　日）　　　　　　",null,null,null,null,null,"花住坂",{"$f":"回覧作成!G6&\"班\"","v":"班"},null,null,{"$f":"回覧作成!G8","v":0},null,{"$f":"回覧作成!G8","v":0}]
["　","　","　","　","　","　","　","　","　","　"]
["　","　","　","　","　","　","　","　","　","　"]
["　","　","　","　","　","　","　","　","　","　"]
["　","　","　","　","　","　","　","　","　","　"]
["　","　","　","　","　","　","　","　","　","　"]
["　","　","　","　","　","　","　","　","　","　"]
["　","　","　","　","　","　","　","　","　","　"]
["　","　","　","　","　","　","　","　","　","　"]
["　","　","　","　","　","　","　","　","　","　"]
["　","　","　","　","　","　","　","　","　","　"]
[]
["回覧及び自治会規約等は花住坂ﾎｰﾑﾍﾟｰｼﾞに掲載されています。ﾒﾆｭｰを押して選択、自治会規約・各種申請書（退会届・慶事お祝金申請書等）は"]
["「各届出書・班長の業務などの資料」をクリックしてください。尚、代表者・班長会資料等はパスワード保護にて非開示です。　　"]
["　QRコード読取りでホームページが見れます　（または検索画面でURL入力　https://ksmzk144.org ）→"]
[]
["連絡事項"]
[]
[]
[]
[]
[]
["回覧",{"$f":"回覧作成!C3&\"年度\"","v":"2026年度"},"(回覧開始日：　　　　月　　　　日）　　　　　　",null,null,null,null,null,"花住坂",{"$f":"回覧作成!G6&\"班\"","v":"班"}]
[{"$f":"A2","v":"　"},{"$f":"B2","v":"　"},"　","　","　","　","　","　","　","　"]
["　","　","　","　","　","　","　","　","　","　"]
[{"$f":"A4","v":"　"},"　","　","　","　","　","　","　","　","　"]
["　","　","　","　","　","　","　","　","　","　"]
["　","　","　","　","　","　","　","　","　","　"]
[{"$f":"A7","v":"　"},"　","　","　","　","　","　","　","　","　"]
["　","　","　","　","　","　","　","　","　","　"]
[{"$f":"A9","v":"　"},"　","　","　","　","　","　","　","　","　"]
[{"$f":"A10","v":"　"},"　","　","　","　","　","　","　","　","　"]
[{"$f":"A11","v":"　"},"　","　","　","　","　","　","　","　","　"]
[]
["回覧及び自治会規約等は花住坂ﾎｰﾑﾍﾟｰｼﾞに掲載されています。ﾒﾆｭｰを押して選択、自治会規約・各種申請書（退会届・慶事お祝金申請書等）は"]
["「各届出書・班長の業務などの資料」をクリックしてください。尚、代表者・班長会資料等はパスワード保護にて非開示です。　　"]
["　QRコード読取りでホームページが見れます　（または検索画面でURL入力　https://ksmzk144.org ）→"]
[]
[]
["連絡事項"]
[]
[]
[]
[]
["回覧",{"$f":"回覧作成!C3&\"年度\"","v":"2026年度"},"(回覧開始日：　　　　月　　　　日）　　　　　　",null,null,null,null,null,"花住坂",{"$f":"回覧作成!G6&\"班\"","v":"班"}]
[{"$f":"A24","v":"　"},{"$f":"B24","v":"　"},"　","　","　","　","　","　","　","　"]
[{"$f":"A25","v":"　"},"　","　","　","　","　","　","　","　","　"]
[{"$f":"A26","v":"　"},"　","　","　","　","　","　","　","　","　"]
[{"$f":"A27","v":"　"},"　","　","　","　","　","　","　","　","　"]
[{"$f":"A28","v":"　"},"　","　","　","　","　","　","　","　","　"]
[{"$f":"A29","v":"　"},"　","　","　","　","　","　","　","　","　"]
[{"$f":"A30","v":"　"},"　","　","　","　","　","　","　","　","　"]
[{"$f":"A31","v":"　"},"　","　","　","　","　","　","　","　","　"]
[{"$f":"A32","v":"　"},"　","　","　","　","　","　","　","　","　"]
[{"$f":"A33","v":"　"},"　","　","　","　","　","　","　","　","　"]
[]
["回覧及び自治会規約等は花住坂ﾎｰﾑﾍﾟｰｼﾞに掲載されています。ﾒﾆｭｰを押して選択、自治会規約・各種申請書（退会届・慶事お祝金申請書等）は"]
["「各届出書・班長の業務などの資料」をクリックしてください。尚、代表者・班長会資料等はパスワード保護にて非開示です。　　"]
["　QRコード読取りでホームページが見れます　（または検索画面でURL入力　https://ksmzk144.org ）→"]
[]
["連絡事項"]

{"sheet":"回覧３０戸用","index":2,"n_rows":76,"n_cols":15,"rows_kept":76,"cut":false,"hidden":false,"merged":[]}
["回覧",{"$f":"回覧作成!C3&\"年度\"","v":"2026年度"},"(回覧開始日：　　　　月　　　　日）　　　　　　",null,null,null,null,null,"花住坂",{"$f":"回覧作成!G6&\"班\"","v":"班"},null,null,{"$f":"回覧作成!G8","v":0},null,{"$f":"回覧作成!G8","v":0}]
["　","　","　","　","　","　","　","　","　","　"]
["　","　","　","　","　","　","　","　","　","　"]
["　","　","　","　","　","　","　","　","　","　"]
["　","　","　","　","　","　","　","　","　","　"]
["　","　","　","　","　","　","　","　","　","　"]
["　","　","　","　","　","　","　","　","　","　"]
["　","　","　","　","　","　","　","　","　","　"]
["　","　","　","　","　","　","　","　","　","　"]
["　","　","　","　","　","　","　","　","　","　"]
["　","　","　","　","　","　","　","　","　","　"]
["　","　","　","　","　","　","　","　","　","　"]
["　","　","　","　","　","　","　","　","　","　"]
["　","　","　","　","　","　","　","　","　","　"]
["　","　","　","　","　","　","　","　","　","　"]
["　","　","　","　","　","　","　","　","　","　"]
[]
["回覧及び自治会規約等は花住坂ﾎｰﾑﾍﾟｰｼﾞに掲載されています。ﾒﾆｭｰを押して選択、自治会規約・各種申請書（退会届・慶事お祝金申請書等）は"]
["「各届出書・班長の業務などの資料」をクリックしてください。尚、代表者・班長会資料等はパスワード保護にて非開示です。　　"]
["　          QRコード読取りでホームページが見れます　（または検索画面でURL入力　https://ksmzk144.org ）→"]
[]
["連絡事項"]
[]
[]
[]
[]
[]
["回覧",{"$f":"回覧作成!C3&\"年度\"","v":"2026年度"},"(回覧開始日：　　　　月　　　　日）　　　　　　",null,null,null,null,null,"花住坂",{"$f":"回覧作成!G6&\"班\"","v":"班"}]
[{"$f":"A2","v":"　"},"　","　","　","　","　","　","　","　","　"]
["　","　","　","　","　","　","　","　","　","　"]
[{"$f":"A4","v":"　"},"　","　","　","　","　","　","　","　","　"]
[{"$f":"A5","v":"　"},"　","　","　","　","　","　","　","　","　"]
[{"$f":"A6","v":"　"},"　","　","　","　","　","　","　","　","　"]
[{"$f":"A7","v":"　"},"　","　","　","　","　","　","　","　","　"]
["　","　","　","　","　","　","　","　","　","　"]
[{"$f":"A9","v":"　"},"　","　","　","　","　","　","　","　","　"]
[{"$f":"A10","v":"　"},"　","　","　","　","　","　","　","　","　"]
[{"$f":"A11","v":"　"},"　","　","　","　","　","　","　","　","　"]
[{"$f":"A12","v":"　"},"　","　","　","　","　","　","　","　","　"]
["　","　","　","　","　","　","　","　","　","　"]
[{"$f":"A14","v":"　"},"　","　","　","　","　","　","　","　","　"]
[{"$f":"A15","v":"　"},"　","　","　","　","　","　","　","　","　"]
[{"$f":"A16","v":"　"},"　","　","　","　","　","　","　","　","　"]
[]
["回覧及び自治会規約等は花住坂ﾎｰﾑﾍﾟｰｼﾞに掲載されています。ﾒﾆｭｰを押して選択、自治会規約・各種申請書（退会届・慶事お祝金申請書等）は"]
["「各届出書・班長の業務などの資料」をクリックしてください。尚、代表者・班長会資料等はパスワード保護にて非開示です。　　"]
["　          QRコード読取りでホームページが見れます　（または検索画面でURL入力　https://ksmzk144.org ）→"]
[]
[]
["連絡事項"]
[]
[]
[]
[]
["回覧",{"$f":"回覧作成!C3&\"年度\"","v":"2026年度"},"(回覧開始日：　　　　月　　　　日）　　　　　　",null,null,null,null,null,"花住坂",{"$f":"回覧作成!G6&\"班\"","v":"班"}]
[{"$f":"A29","v":"　"},"　","　","　","　","　","　","　","　","　"]
[{"$f":"A30","v":"　"},"　","　","　","　","　","　","　","　","　"]
[{"$f":"A31","v":"　"},"　","　","　","　","　","　","　","　","　"]
[{"$f":"A32","v":"　"},"　","　","　","　","　","　","　","　","　"]
[{"$f":"A33","v":"　"},"　","　","　","　","　","　","　","　","　"]
[{"$f":"A34","v":"　"},"　","　","　","　","　","　","　","　","　"]
[{"$f":"A35","v":"　"},"　","　","　","　","　","　","　","　","　"]
[{"$f":"A36","v":"　"},"　","　","　","　","　","　","　","　","　"]
[{"$f":"A37","v":"　"},"　","　","　","　","　","　","　","　","　"]
[{"$f":"A38","v":"　"},"　","　","　","　","　","　","　","　","　"]
[{"$f":"A39","v":"　"},"　","　","　","　","　","　","　","　","　"]
[{"$f":"A40","v":"　"},"　","　","　","　","　","　","　","　","　"]
[{"$f":"A41","v":"　"},"　","　","　","　","　","　","　","　","　"]
[{"$f":"A42","v":"　"},"　","　","　","　","　","　","　","　","　"]
[{"$f":"A43","v":"　"},"　","　","　","　","　","　","　","　","　"]
[]
["回覧及び自治会規約等は花住坂ﾎｰﾑﾍﾟｰｼﾞに掲載されています。ﾒﾆｭｰを押して選択、自治会規約・各種申請書（退会届・慶事お祝金申請書等）は"]
["「各届出書・班長の業務などの資料」をクリックしてください。尚、代表者・班長会資料等はパスワード保護にて非開示です。　　"]
["　          QRコード読取りでホームページが見れます　（または検索画面でURL入力　https://ksmzk144.org ）→"]
[]
["連絡事項"]